BEGIN:VCALENDAR
VERSION:2.0
PRODID:-//Christian Answers for the New Age - ECPv6.8.3//NONSGML v1.0//EN
CALSCALE:GREGORIAN
METHOD:PUBLISH
X-WR-CALNAME:Christian Answers for the New Age
X-ORIGINAL-URL:https://www.christiananswersnewage.com
X-WR-CALDESC:Events for Christian Answers for the New Age
REFRESH-INTERVAL;VALUE=DURATION:PT1H
X-Robots-Tag:noindex
X-PUBLISHED-TTL:PT1H
BEGIN:VTIMEZONE
TZID:America/Chicago
BEGIN:DAYLIGHT
TZOFFSETFROM:-0600
TZOFFSETTO:-0500
TZNAME:CDT
DTSTART:20250309T080000
END:DAYLIGHT
BEGIN:STANDARD
TZOFFSETFROM:-0500
TZOFFSETTO:-0600
TZNAME:CST
DTSTART:20251102T070000
END:STANDARD
END:VTIMEZONE
BEGIN:VEVENT
DTSTART;VALUE=DATE:20250111
DTEND;VALUE=DATE:20250112
DTSTAMP:20260419T234224
CREATED:20250112T015133Z
LAST-MODIFIED:20250615T053245Z
UID:3119-1736553600-1736639999@www.christiananswersnewage.com
SUMMARY:VIDEO INTERVIEW AS GUEST OF DOREEN VIRTUE ON MICHAEL HEISER
DESCRIPTION:Video interview on the late Dr. Michael Heiser done in 2023. This video did not initially air. It was recently edited and posted by Justin Pickerel of Scruffy Apologetics. \n  \nBook recommendation: The Unseemly Realm by Thomas Howe \n 
URL:https://www.christiananswersnewage.com/event/video-interview-as-guest-of-doreen-virtue-on-michael-heiser
CATEGORIES:Biblical Discernment,Doreen Virtue,Esotieric,Gnosticism,Michael Heiser,Mysticism,New Age
ATTACH;FMTTYPE=image/png:https://www.christiananswersnewage.com/wp-content/uploads/2025/01/Screenshot-2025-01-11-204311.png
END:VEVENT
BEGIN:VEVENT
DTSTART;VALUE=DATE:20250114
DTEND;VALUE=DATE:20250115
DTSTAMP:20260419T234224
CREATED:20250114T202654Z
LAST-MODIFIED:20250114T204005Z
UID:3130-1736812800-1736899199@www.christiananswersnewage.com
SUMMARY:VIDEO INTERVIEW ON JOHN MARK COMER PART 2 AS GUEST OF UNKNOWN WEBCAST
DESCRIPTION:Video interview on John Mark Comer\, Part 2\, as guest of The Unknown Webcast with Don Veinot and Ron Henzel. \n  \nWatch Part 1 here \n  \n 
URL:https://www.christiananswersnewage.com/event/video-interview-on-john-mark-comer-as-guest-of-unknown-webcast
CATEGORIES:Biblical Discernment,Contemplative Spirituailty,Eastern Spirituality,Esotieric,Gnosticism,John Mark Comer,Mysticism
ATTACH;FMTTYPE=image/png:https://www.christiananswersnewage.com/wp-content/uploads/2025/01/Screenshot-2025-01-14-144517.png
END:VEVENT
BEGIN:VEVENT
DTSTART;VALUE=DATE:20250114
DTEND;VALUE=DATE:20250115
DTSTAMP:20260419T234224
CREATED:20250114T203532Z
LAST-MODIFIED:20250114T203532Z
UID:3134-1736812800-1736899199@www.christiananswersnewage.com
SUMMARY:VIDEO INTERVIEW ON RICHARD FOSTER ON CONTENDING FOR THE WORD
DESCRIPTION:Video interview on Richard Foster as guest of Contending for the Word with Dave Jenkins \n  \n 
URL:https://www.christiananswersnewage.com/event/video-interview-on-richard-foster-on-contending-for-the-word
CATEGORIES:Biblical Discernment,Contemplative Spirituailty,Mysticism
ATTACH;FMTTYPE=image/png:https://www.christiananswersnewage.com/wp-content/uploads/2025/01/Screenshot-2025-01-14-144604.png
END:VEVENT
BEGIN:VEVENT
DTSTART;VALUE=DATE:20250128
DTEND;VALUE=DATE:20250129
DTSTAMP:20260419T234224
CREATED:20250128T233921Z
LAST-MODIFIED:20250201T050943Z
UID:3185-1738022400-1738108799@www.christiananswersnewage.com
SUMMARY:VIDEO INTERVIEW ON DALLAS WILLARD ON CONTENDING FOR THE WORD
DESCRIPTION:Discussing Dallas Willard in video interview as a guest of Dave Jenkins on Contending for the Word \n 
URL:https://www.christiananswersnewage.com/event/video-interview-on-dallas-willard-on-contending-for-the-word
CATEGORIES:Biblical Discernment,Contemplative Spirituailty,Gnosticism
ATTACH;FMTTYPE=image/png:https://www.christiananswersnewage.com/wp-content/uploads/2025/01/Screenshot-2025-01-28-181822.png
END:VEVENT
END:VCALENDAR