BEGIN:VCALENDAR
VERSION:2.0
PRODID:-//Christian Answers for the New Age - ECPv6.8.3//NONSGML v1.0//EN
CALSCALE:GREGORIAN
METHOD:PUBLISH
X-WR-CALNAME:Christian Answers for the New Age
X-ORIGINAL-URL:https://www.christiananswersnewage.com
X-WR-CALDESC:Events for Christian Answers for the New Age
REFRESH-INTERVAL;VALUE=DURATION:PT1H
X-Robots-Tag:noindex
X-PUBLISHED-TTL:PT1H
BEGIN:VTIMEZONE
TZID:America/Chicago
BEGIN:DAYLIGHT
TZOFFSETFROM:-0600
TZOFFSETTO:-0500
TZNAME:CDT
DTSTART:20240310T080000
END:DAYLIGHT
BEGIN:STANDARD
TZOFFSETFROM:-0500
TZOFFSETTO:-0600
TZNAME:CST
DTSTART:20241103T070000
END:STANDARD
BEGIN:DAYLIGHT
TZOFFSETFROM:-0600
TZOFFSETTO:-0500
TZNAME:CDT
DTSTART:20250309T080000
END:DAYLIGHT
BEGIN:STANDARD
TZOFFSETFROM:-0500
TZOFFSETTO:-0600
TZNAME:CST
DTSTART:20251102T070000
END:STANDARD
BEGIN:DAYLIGHT
TZOFFSETFROM:-0600
TZOFFSETTO:-0500
TZNAME:CDT
DTSTART:20260308T080000
END:DAYLIGHT
BEGIN:STANDARD
TZOFFSETFROM:-0500
TZOFFSETTO:-0600
TZNAME:CST
DTSTART:20261101T070000
END:STANDARD
END:VTIMEZONE
BEGIN:VEVENT
DTSTART;VALUE=DATE:20260103
DTEND;VALUE=DATE:20260104
DTSTAMP:20260419T075414
CREATED:20260103T192146Z
LAST-MODIFIED:20260103T192217Z
UID:4190-1767398400-1767484799@www.christiananswersnewage.com
SUMMARY:VIDEO PROGRAM ON ASTROLOGY & ASTROLOGY FORECASTS
DESCRIPTION:Watch discussion of astrology and astrology forecasting as guest of ex-psychic Jenn Nizza. We talk about what astrology is\, a bit of history of astrology\, what God says about it\, how astrology can be deceptive by seeming to be accurate and helpful\, how it seems to work\, and more. \n  \n  \n  \nImage from  to Vedrana Filipović on Unsplash
URL:https://www.christiananswersnewage.com/event/video-program-on-astrology-astrology-forecasts
CATEGORIES:Astrology,Divination,The Occult
ATTACH;FMTTYPE=image/jpeg:https://www.christiananswersnewage.com/wp-content/uploads/2026/01/vedrana-filipovic-kLqZ92hmqTw-unsplash.jpg
END:VEVENT
BEGIN:VEVENT
DTSTART;VALUE=DATE:20250524
DTEND;VALUE=DATE:20250525
DTSTAMP:20260419T075414
CREATED:20250524T215705Z
LAST-MODIFIED:20250524T215705Z
UID:3590-1748044800-1748131199@www.christiananswersnewage.com
SUMMARY:AUDIO INTERVIEW AS GUEST OF ISSUES\, ETC. ON ASTROLOGY\, TAROT CARDS\, PSYCHICS
DESCRIPTION:This is an audio interview as a guest of Issues Etc. discussing a Pew research poll that showed a rise in popularity of astrology\, tarot cards\, psychics\, palm readers\, and others. I discuss what astrology is\, how Tarot card readers think the cards work\, why people are drawn to these things\, a few of my experiences\, why astrology seems to work\, spirit guides\, and why God denounces it.
URL:https://www.christiananswersnewage.com/event/audio-interview-as-guest-of-issues-etc-on-astrology-tarot-cards-psychics
CATEGORIES:Astrology,Cultural Spiritual,Divination,The Occult
ATTACH;FMTTYPE=image/png:https://www.christiananswersnewage.com/wp-content/uploads/2025/05/Screenshot-2025-05-24-174240.png
END:VEVENT
BEGIN:VEVENT
DTSTART;VALUE=DATE:20250412
DTEND;VALUE=DATE:20250413
DTSTAMP:20260419T075414
CREATED:20250412T200745Z
LAST-MODIFIED:20250412T200745Z
UID:3453-1744416000-1744502399@www.christiananswersnewage.com
SUMMARY:Video Program on Occult/New Age Practices in Culture & Church
DESCRIPTION:Video program as guest of Jenn Nizza on practices from the occult and New Age in the culture. This was a follow-up program to a previous audio podcast on astrology and occult practices in popular programs. We answer several questions during this program on issues such as spirit guides\, healing\, why do things in the New Age work\, how to know something is from God\, etc.
URL:https://www.christiananswersnewage.com/event/video-program-on-occult-new-age-practices-in-culture-church
CATEGORIES:Astrology,Biblical Discernment,Divination,Jenn Nizza,New Age,New Age Healing,The Occult
ATTACH;FMTTYPE=image/png:https://www.christiananswersnewage.com/wp-content/uploads/2025/04/Screenshot-2025-04-12-153125.png
END:VEVENT
BEGIN:VEVENT
DTSTART;VALUE=DATE:20250404
DTEND;VALUE=DATE:20250405
DTSTAMP:20260419T075414
CREATED:20250405T033849Z
LAST-MODIFIED:20250405T035822Z
UID:3446-1743724800-1743811199@www.christiananswersnewage.com
SUMMARY:AUDIO INTERVIEW ON ASTROLOGY & TAROT IN POPULAR PROGRAMS
DESCRIPTION:Audio interview on astrology and tarot in popular programs such as “Love Is Blind\,” as guest of Jenn Nizza.
URL:https://www.christiananswersnewage.com/event/audio-interview-on-astrology-tarot-used-in-popular-programs
CATEGORIES:Astrology,Divination,Jenn Nizza,New Age,The Occult
ATTACH;FMTTYPE=image/png:https://www.christiananswersnewage.com/wp-content/uploads/2025/04/Screenshot-2025-04-04-233410.png
END:VEVENT
BEGIN:VEVENT
DTSTART;VALUE=DATE:20250201
DTEND;VALUE=DATE:20250202
DTSTAMP:20260419T075414
CREATED:20250201T190248Z
LAST-MODIFIED:20250201T190333Z
UID:3196-1738368000-1738454399@www.christiananswersnewage.com
SUMMARY:VIDEO INTERVIEW ON SPELLBOUND AS GUEST OF JENN NIZZA
DESCRIPTION:Video interview on book SpellBound as guest of ex-psychic Jenn Nizza
URL:https://www.christiananswersnewage.com/event/video-interview-on-spellbound-as-guest-of-jenn-nizza
CATEGORIES:Astrology,Children,Divination,Jenn Nizza,SpellBound 2024 by Marcia Montenegro,The Occult,Wicca
ATTACH;FMTTYPE=image/png:https://www.christiananswersnewage.com/wp-content/uploads/2025/02/SpellBound-Cover-2024.png
END:VEVENT
BEGIN:VEVENT
DTSTART;VALUE=DATE:20250127
DTEND;VALUE=DATE:20250128
DTSTAMP:20260419T075414
CREATED:20250127T233118Z
LAST-MODIFIED:20250127T233118Z
UID:3182-1737936000-1738022399@www.christiananswersnewage.com
SUMMARY:AUDIO INTERVIEW ON CROSSTALK ON BOOK "SPELLBOUND"
DESCRIPTION:Audio interview on the book SpellBound as guest of Jim Schneider on the VCY American Crosstalk America audio program.
URL:https://www.christiananswersnewage.com/event/audio-interview-on-crosstalk-on-book-spellbound
CATEGORIES:Astrology,Children,Divination,SpellBound 2024 by Marcia Montenegro,The Occult
ATTACH;FMTTYPE=image/png:https://www.christiananswersnewage.com/wp-content/uploads/2024/10/Screenshot-2024-10-31-134343.png
END:VEVENT
BEGIN:VEVENT
DTSTART;TZID=America/Chicago:20241212T080000
DTEND;TZID=America/Chicago:20241212T170000
DTSTAMP:20260419T075414
CREATED:20241212T194546Z
LAST-MODIFIED:20241212T194546Z
UID:3092-1733990400-1734022800@www.christiananswersnewage.com
SUMMARY:VIDEO PROGRAM ON Q&A ON THE MAGI
DESCRIPTION:This was a live program as a guest of ex-psychic Jenn Nizza answering questions on the Magi and related topics. We discuss the Magi\, divination\, Jesus as the Avatar of the Age of Pisces\, the Gospel in the Stars (message in the stars\, witness of the stars\, etc.)\, how New Agers believe white light protects them\, and more. This was a follow up to the program on the Magi. \n  \nMore Resources: \nSee CANA article\, “Messages in the Stars?” \n  \nRefutation of Gospel in the Stars by Danny Faulkner\, Christian astrophysicist \nThe Gospel Message – Written in the Stars? \n  \nA Further Examination of the Gospel in the Stars \n  \nBy Charles Strohmer\, former professional astrologer \nIs There a Gospel in the Stars? \n 
URL:https://www.christiananswersnewage.com/event/video-program-on-qa-on-the-magi
CATEGORIES:Astrology,Biblical Discernment,Divination,Esotieric,Jenn Nizza,The Occult
ATTACH;FMTTYPE=image/png:https://www.christiananswersnewage.com/wp-content/uploads/2024/12/Screenshot-2024-12-12-143001.png
END:VEVENT
BEGIN:VEVENT
DTSTART;VALUE=DATE:20241209
DTEND;VALUE=DATE:20241210
DTSTAMP:20260419T075414
CREATED:20241209T223604Z
LAST-MODIFIED:20241211T215650Z
UID:3081-1733702400-1733788799@www.christiananswersnewage.com
SUMMARY:INTERVIEWS WITH PASTOR BRIAN TUBBS
DESCRIPTION:  \nInterviews with Pastor Brian Tubbs of Olney Baptist Church\, Olney\, MD \n  \nThe Enneagram \nMediums and Angels \nAre Psychics and Mediums Real? \nFrom New Age to Christianity \n  \nShort Link: https://shorturl.at/bj5UW
URL:https://www.christiananswersnewage.com/event/interviews-with-pastor-brian-tubbs
CATEGORIES:Astrology,Biblical Discernment,Divination,Enneagram,Testimony,The Occult
ATTACH;FMTTYPE=image/jpeg:https://www.christiananswersnewage.com/wp-content/uploads/2024/12/Marcia-Atlanta-Journal-Constitution2.jpg
END:VEVENT
BEGIN:VEVENT
DTSTART;VALUE=DATE:20241116
DTEND;VALUE=DATE:20241117
DTSTAMP:20260419T075414
CREATED:20241116T195735Z
LAST-MODIFIED:20241116T195752Z
UID:3052-1731715200-1731801599@www.christiananswersnewage.com
SUMMARY:VIDEO INTERVIEW ON WHY ASTROLOGY SEEMS TO WORK
DESCRIPTION:Video interview on why astrology seems to work as guest of ex-psychic Jenn Nizza
URL:https://www.christiananswersnewage.com/event/video-interview-on-why-astrology-seems-to-work
CATEGORIES:Astrology,Divination,Jenn Nizza,The Occult
ATTACH;FMTTYPE=image/png:https://www.christiananswersnewage.com/wp-content/uploads/2024/11/Screenshot-2024-11-16-144812.png
END:VEVENT
BEGIN:VEVENT
DTSTART;VALUE=DATE:20241012
DTEND;VALUE=DATE:20241013
DTSTAMP:20260419T075414
CREATED:20241012T182928Z
LAST-MODIFIED:20241012T182928Z
UID:2946-1728691200-1728777599@www.christiananswersnewage.com
SUMMARY:VIDEO INTERVIEW ON THE OCCULT ON ONCE LOST MINISTRIES
DESCRIPTION:Video interview on the occult as guest of Kyle Pearl of Once Lost Ministries
URL:https://www.christiananswersnewage.com/event/video-interview-on-the-occult-on-once-lost-ministries
CATEGORIES:Astrology,Divination,Energy Healing,The Occult
ATTACH;FMTTYPE=image/png:https://www.christiananswersnewage.com/wp-content/uploads/2024/10/Screenshot-2024-10-12-135617.png
END:VEVENT
BEGIN:VEVENT
DTSTART;VALUE=DATE:20240129
DTEND;VALUE=DATE:20240130
DTSTAMP:20260419T075414
CREATED:20240130T043804Z
LAST-MODIFIED:20240130T044043Z
UID:2096-1706486400-1706572799@www.christiananswersnewage.com
SUMMARY:DOREEN VIRTUE: VIDEO INTERIVEW ON CHRIST ALIGNMENT
DESCRIPTION:I was one of several people interviewed by former New Ager DOREEN VIRTUE about the card reading done by a ministry called Christ Alignment. Christ Alignment is associated with Bethel Church in Redding\, CA\, which is part of the NAR (New Apostolic Reformation). Although I do not normally deal with the NAR\, since the NAR leaders are into New Age ideas and practices\, I was interviewed for this to comment on the use of their destiny cards and related issues. I first come on around 42 min. although I am commenting partly on something that is shown around 40 min. \nThe 2nd time I am on is at 1 hr. 07 min. but the section that is addressed (the use of Urim and Thummin and casting lots in the Bible) is around 1 hr. 05 min. Jenny Hodge\, who runs Christ Alignment\, is show claiming that the use of Urim and Thummin means that it is okay to use “stones” today for divination. This section goes on for until about 1 hr. 48 min.
URL:https://www.christiananswersnewage.com/event/doreen-virtue-video-interivew-on-christ-alignment
CATEGORIES:Divination,New Age,New Apostolic Reformation
ATTACH;FMTTYPE=image/png:https://www.christiananswersnewage.com/wp-content/uploads/2024/01/aaaaDorenn.png
END:VEVENT
END:VCALENDAR