BEGIN:VCALENDAR
VERSION:2.0
PRODID:-//Christian Answers for the New Age - ECPv6.8.3//NONSGML v1.0//EN
CALSCALE:GREGORIAN
METHOD:PUBLISH
X-WR-CALNAME:Christian Answers for the New Age
X-ORIGINAL-URL:https://www.christiananswersnewage.com
X-WR-CALDESC:Events for Christian Answers for the New Age
REFRESH-INTERVAL;VALUE=DURATION:PT1H
X-Robots-Tag:noindex
X-PUBLISHED-TTL:PT1H
BEGIN:VTIMEZONE
TZID:America/Chicago
BEGIN:DAYLIGHT
TZOFFSETFROM:-0600
TZOFFSETTO:-0500
TZNAME:CDT
DTSTART:20250309T080000
END:DAYLIGHT
BEGIN:STANDARD
TZOFFSETFROM:-0500
TZOFFSETTO:-0600
TZNAME:CST
DTSTART:20251102T070000
END:STANDARD
END:VTIMEZONE
BEGIN:VEVENT
DTSTART;VALUE=DATE:20250111
DTEND;VALUE=DATE:20250112
DTSTAMP:20260424T105625
CREATED:20250111T191528Z
LAST-MODIFIED:20250111T191804Z
UID:3116-1736553600-1736639999@www.christiananswersnewage.com
SUMMARY:VIDEO INTERIVEW ON MINDFULNESS AS GUEST OF JENN NIZZA
DESCRIPTION:Video interview on Mindfulness as guest of Jenn Nizza \n  \nSee CANA articles on Mindfulness
URL:https://www.christiananswersnewage.com/event/video-interivew-on-mindfulness-as-guest-of-jenn-nizza
CATEGORIES:Eastern Spirituality,Jenn Nizza,Meditation and Mindfulness,New Age
ATTACH;FMTTYPE=image/png:https://www.christiananswersnewage.com/wp-content/uploads/2025/01/Screenshot-2025-01-11-141137.png
END:VEVENT
END:VCALENDAR