BEGIN:VCALENDAR
VERSION:2.0
PRODID:-//Christian Answers for the New Age - ECPv6.8.3//NONSGML v1.0//EN
CALSCALE:GREGORIAN
METHOD:PUBLISH
X-ORIGINAL-URL:https://www.christiananswersnewage.com
X-WR-CALDESC:Events for Christian Answers for the New Age
REFRESH-INTERVAL;VALUE=DURATION:PT1H
X-Robots-Tag:noindex
X-PUBLISHED-TTL:PT1H
BEGIN:VTIMEZONE
TZID:America/Chicago
BEGIN:DAYLIGHT
TZOFFSETFROM:-0600
TZOFFSETTO:-0500
TZNAME:CDT
DTSTART:20250309T080000
END:DAYLIGHT
BEGIN:STANDARD
TZOFFSETFROM:-0500
TZOFFSETTO:-0600
TZNAME:CST
DTSTART:20251102T070000
END:STANDARD
END:VTIMEZONE
BEGIN:VEVENT
DTSTART;VALUE=DATE:20250201
DTEND;VALUE=DATE:20250202
DTSTAMP:20260424T090846
CREATED:20250201T190248Z
LAST-MODIFIED:20250201T190333Z
UID:3196-1738368000-1738454399@www.christiananswersnewage.com
SUMMARY:VIDEO INTERVIEW ON SPELLBOUND AS GUEST OF JENN NIZZA
DESCRIPTION:Video interview on book SpellBound as guest of ex-psychic Jenn Nizza
URL:https://www.christiananswersnewage.com/event/video-interview-on-spellbound-as-guest-of-jenn-nizza
CATEGORIES:Astrology,Children,Divination,Jenn Nizza,SpellBound 2024 by Marcia Montenegro,The Occult,Wicca
ATTACH;FMTTYPE=image/png:https://www.christiananswersnewage.com/wp-content/uploads/2025/02/SpellBound-Cover-2024.png
END:VEVENT
BEGIN:VEVENT
DTSTART;VALUE=DATE:20250220
DTEND;VALUE=DATE:20250221
DTSTAMP:20260424T090846
CREATED:20250220T215945Z
LAST-MODIFIED:20250222T183802Z
UID:3308-1740009600-1740095999@www.christiananswersnewage.com
SUMMARY:VIDEO INTERVIEW ON CHI/KI/QI WITH JENN NIZZA
DESCRIPTION:Video interview on the concept chi (also ki and qi) as guest of Jenn Nizza.
URL:https://www.christiananswersnewage.com/event/video-interview-on-chi-ki-qi-with-jenn-nizza
CATEGORIES:Chi,Eastern Spirituality,Energy Healing,Jenn Nizza,ki,New Age,New Age Healing,qi,The Occult
ATTACH;FMTTYPE=image/png:https://www.christiananswersnewage.com/wp-content/uploads/2025/02/Screenshot-2025-02-20-165506.png
END:VEVENT
BEGIN:VEVENT
DTSTART;VALUE=DATE:20250222
DTEND;VALUE=DATE:20250223
DTSTAMP:20260424T090846
CREATED:20250222T183713Z
LAST-MODIFIED:20250222T183838Z
UID:3311-1740182400-1740268799@www.christiananswersnewage.com
SUMMARY:LIVE VIDEO ON CHI AS GUEST OF JENN NIZZA
DESCRIPTION:Live video on chi as guest of Jenn Nizza which can be watched anytime \n  \n 
URL:https://www.christiananswersnewage.com/event/live-video-on-chi-as-guest-of-jenn-nizza
CATEGORIES:Chi,Eastern Spirituality,Jenn Nizza,ki,New Age Healing,qi,The Occult
ATTACH;FMTTYPE=image/png:https://www.christiananswersnewage.com/wp-content/uploads/2025/02/Screenshot-2025-02-22-133524.png
END:VEVENT
END:VCALENDAR