BEGIN:VCALENDAR
VERSION:2.0
PRODID:-//Christian Answers for the New Age - ECPv6.8.3//NONSGML v1.0//EN
CALSCALE:GREGORIAN
METHOD:PUBLISH
X-WR-CALNAME:Christian Answers for the New Age
X-ORIGINAL-URL:https://www.christiananswersnewage.com
X-WR-CALDESC:Events for Christian Answers for the New Age
REFRESH-INTERVAL;VALUE=DURATION:PT1H
X-Robots-Tag:noindex
X-PUBLISHED-TTL:PT1H
BEGIN:VTIMEZONE
TZID:America/Chicago
BEGIN:DAYLIGHT
TZOFFSETFROM:-0600
TZOFFSETTO:-0500
TZNAME:CDT
DTSTART:20250309T080000
END:DAYLIGHT
BEGIN:STANDARD
TZOFFSETFROM:-0500
TZOFFSETTO:-0600
TZNAME:CST
DTSTART:20251102T070000
END:STANDARD
END:VTIMEZONE
BEGIN:VEVENT
DTSTART;VALUE=DATE:20250804
DTEND;VALUE=DATE:20250805
DTSTAMP:20260422T004122
CREATED:20250804T194800Z
LAST-MODIFIED:20250804T195803Z
UID:3833-1754265600-1754351999@www.christiananswersnewage.com
SUMMARY:AUDIO INTERVIEW\, NEW AGE DOCTORS\, PART 1: DR. MEHMET OZ
DESCRIPTION:Audio interview as guest of Jenn Nizza on Dr. Mehmet Oz\, This is part 1 of New Age Doctors. \n  \nDr. Oz is a follower of Emmanuel Swedenborg and endorses Reiki\, energy healing. His wife is a Reiki “healer.” \n  \nExcellent expose of Dr. Oz in The New Yorker (you may need a subscription).
URL:https://www.christiananswersnewage.com/event/audio-interview-new-age-doctors-part-1-dr-mehmet-oz
CATEGORIES:Energy Healing,Jenn Nizza,New Age,New Thought
ATTACH;FMTTYPE=image/jpeg:https://www.christiananswersnewage.com/wp-content/uploads/2025/08/Dr-Oz.jpg
END:VEVENT
BEGIN:VEVENT
DTSTART;VALUE=DATE:20250808
DTEND;VALUE=DATE:20250809
DTSTAMP:20260422T004122
CREATED:20250808T220838Z
LAST-MODIFIED:20251006T204813Z
UID:3851-1754611200-1754697599@www.christiananswersnewage.com
SUMMARY:VIDEO INTERVIEW ON NEW AGE DOCTORS\, PARTS 2\, 3\, & 4: DANIEL AMEN; MARK HYMAN; ANDREW WEIL & JOSEPH MERCOLA
DESCRIPTION:Audio Interview with Jenn Nizza on New Age Doctors\, part 4\, discussing Dr. Andrew Weil and Dr. Joseph Mercola \n  \nAudio Interview with Jenn Nizza on New Age Doctors\, part 3\, discussing Dr. Mark Hyman \n  \nAudio Interview with Jenn Nizza on New Age Doctors\, part 2\, discussing Dr. Daniel Amen \n  \nListen to part 1 on Dr. Oz here \n  \nSee CANA article on the New Age doctors \n  \nSee Christian Post article on this program \n  \n 
URL:https://www.christiananswersnewage.com/event/interview-on-new-age-doctors-part-2-dr-daniel-amen
CATEGORIES:Eastern Spirituality,Esoteric,Human Potential Movement/Motivational,Jenn Nizza,New Age,New Age Healing
ATTACH;FMTTYPE=image/jpeg:https://www.christiananswersnewage.com/wp-content/uploads/2025/08/Amen.jpg
END:VEVENT
BEGIN:VEVENT
DTSTART;VALUE=DATE:20250823
DTEND;VALUE=DATE:20250824
DTSTAMP:20260422T004122
CREATED:20250823T182906Z
LAST-MODIFIED:20250823T182906Z
UID:3892-1755907200-1755993599@www.christiananswersnewage.com
SUMMARY:VIDEO INTERVIEW ANSWERING QUESTIONS ON EARTHING/GROUNDING
DESCRIPTION:This was a live video interview on Earthing/Grounding with Jenn Nizza which can be watched anytime \n  \nSee CANA article on Earthing/Grounding
URL:https://www.christiananswersnewage.com/event/video-interview-answering-questions-on-earthing-grounding
CATEGORIES:Energy Healing,Jenn Nizza,New Age,New Age Healing
ATTACH;FMTTYPE=image/png:https://www.christiananswersnewage.com/wp-content/uploads/2025/08/Screenshot-2025-08-23-142011.png
END:VEVENT
END:VCALENDAR