BEGIN:VCALENDAR
VERSION:2.0
PRODID:-//Christian Answers for the New Age - ECPv6.8.3//NONSGML v1.0//EN
CALSCALE:GREGORIAN
METHOD:PUBLISH
X-ORIGINAL-URL:https://www.christiananswersnewage.com
X-WR-CALDESC:Events for Christian Answers for the New Age
REFRESH-INTERVAL;VALUE=DURATION:PT1H
X-Robots-Tag:noindex
X-PUBLISHED-TTL:PT1H
BEGIN:VTIMEZONE
TZID:America/Chicago
BEGIN:DAYLIGHT
TZOFFSETFROM:-0600
TZOFFSETTO:-0500
TZNAME:CDT
DTSTART:20250309T080000
END:DAYLIGHT
BEGIN:STANDARD
TZOFFSETFROM:-0500
TZOFFSETTO:-0600
TZNAME:CST
DTSTART:20251102T070000
END:STANDARD
END:VTIMEZONE
BEGIN:VEVENT
DTSTART;VALUE=DATE:20250502
DTEND;VALUE=DATE:20250503
DTSTAMP:20260424T060840
CREATED:20250503T032424Z
LAST-MODIFIED:20250503T032540Z
UID:3522-1746144000-1746230399@www.christiananswersnewage.com
SUMMARY:AUDIO INTERVIEW ON APPLIED KINESIOLOGY WITH JENN NIZZA
DESCRIPTION:Audio interview on Applied Kinesiology as guest of ex-psychic Jenn Nizza (this is an Apple podcast) \n  \nThis podcast streams on many platforms including Instagram\, Spotify\, and others. \n  \nGood article on Appied Kinesiology
URL:https://www.christiananswersnewage.com/event/audio-interview-on-applied-kinesiology-with-jenn-nizza
CATEGORIES:Jenn Nizza,New Age,New Age Healing,qi,The Occult
ATTACH;FMTTYPE=image/png:https://www.christiananswersnewage.com/wp-content/uploads/2025/05/Screenshot-2025-05-02-231956.png
END:VEVENT
END:VCALENDAR