BEGIN:VCALENDAR
VERSION:2.0
PRODID:-//Christian Answers for the New Age - ECPv6.8.3//NONSGML v1.0//EN
CALSCALE:GREGORIAN
METHOD:PUBLISH
X-WR-CALNAME:Christian Answers for the New Age
X-ORIGINAL-URL:https://www.christiananswersnewage.com
X-WR-CALDESC:Events for Christian Answers for the New Age
REFRESH-INTERVAL;VALUE=DURATION:PT1H
X-Robots-Tag:noindex
X-PUBLISHED-TTL:PT1H
BEGIN:VTIMEZONE
TZID:America/Chicago
BEGIN:DAYLIGHT
TZOFFSETFROM:-0600
TZOFFSETTO:-0500
TZNAME:CDT
DTSTART:20240310T080000
END:DAYLIGHT
BEGIN:STANDARD
TZOFFSETFROM:-0500
TZOFFSETTO:-0600
TZNAME:CST
DTSTART:20241103T070000
END:STANDARD
BEGIN:DAYLIGHT
TZOFFSETFROM:-0600
TZOFFSETTO:-0500
TZNAME:CDT
DTSTART:20250309T080000
END:DAYLIGHT
BEGIN:STANDARD
TZOFFSETFROM:-0500
TZOFFSETTO:-0600
TZNAME:CST
DTSTART:20251102T070000
END:STANDARD
END:VTIMEZONE
BEGIN:VEVENT
DTSTART;VALUE=DATE:20250715
DTEND;VALUE=DATE:20250716
DTSTAMP:20260421T035905
CREATED:20250715T211511Z
LAST-MODIFIED:20250715T211511Z
UID:3769-1752537600-1752623999@www.christiananswersnewage.com
SUMMARY:VIDEO INTERVIEW ON BOOK "SPELLBOUND"
DESCRIPTION:Video interview discussing book SpellBound as guest of Campfire Apologetics \nAudio versions of SpellBound
URL:https://www.christiananswersnewage.com/event/video-interview-on-book-spellbound
CATEGORIES:Children,Esoteric,SpellBound 2024 by Marcia Montenegro,The Occult
ATTACH;FMTTYPE=image/png:https://www.christiananswersnewage.com/wp-content/uploads/2025/07/Screenshot-2025-07-15-171008.png
END:VEVENT
BEGIN:VEVENT
DTSTART;VALUE=DATE:20250222
DTEND;VALUE=DATE:20250223
DTSTAMP:20260421T035905
CREATED:20250222T213955Z
LAST-MODIFIED:20250222T213955Z
UID:3314-1740182400-1740268799@www.christiananswersnewage.com
SUMMARY:INTERVIEW ON "SPELLBOUND" AS GUEST OF SHANDA FULBRIGHT OF HER FAITH INSPIRES
DESCRIPTION:Audio interview giving my testimony and discussing the book SpellBound as guest of Shanda Fulbright of Her Faith Inspires \n  \n 
URL:https://www.christiananswersnewage.com/event/interview-on-spellbound-as-guest-of-shanda-fulbright-of-her-faith-inspires
CATEGORIES:Astrology,Children,SpellBound 2024 by Marcia Montenegro,Testimony
ATTACH;FMTTYPE=image/png:https://www.christiananswersnewage.com/wp-content/uploads/2025/02/Screenshot-2025-02-22-163153.png
END:VEVENT
BEGIN:VEVENT
DTSTART;VALUE=DATE:20250207
DTEND;VALUE=DATE:20250208
DTSTAMP:20260421T035905
CREATED:20250218T042803Z
LAST-MODIFIED:20250218T042803Z
UID:3303-1738886400-1738972799@www.christiananswersnewage.com
SUMMARY:VIDEO AND AUDIO INTERVIEW ON "SPELLBOUND" WITH STAND UP FOR THE TRUTH
DESCRIPTION:Video and audio interview with Stand Up for the Truth with Mary Danielson on the book SpellBound: The Paranormal Seduction of Today’s Kids \n  \n(There were problems with Internet connection for CANA so many interruptions)
URL:https://www.christiananswersnewage.com/event/video-and-audio-interview-on-spellbound-with-stand-up-for-the-truth
CATEGORIES:Children,SpellBound 2024 by Marcia Montenegro,The Occult
ATTACH;FMTTYPE=image/png:https://www.christiananswersnewage.com/wp-content/uploads/2025/02/Screenshot-2025-02-17-232417.png
END:VEVENT
BEGIN:VEVENT
DTSTART;VALUE=DATE:20250205
DTEND;VALUE=DATE:20250206
DTSTAMP:20260421T035905
CREATED:20250206T004347Z
LAST-MODIFIED:20250206T004347Z
UID:3226-1738713600-1738799999@www.christiananswersnewage.com
SUMMARY:VIDEO INTERVIEW ON BOOK "SPELLBOUND" ON MCFILES
DESCRIPTION:Video interview on book Spellbound as guest of Chris McDonald of McFiles
URL:https://www.christiananswersnewage.com/event/video-interview-on-book-spellbound-on-mcfiles
CATEGORIES:Astrology,Children,SpellBound 2024 by Marcia Montenegro,The Occult
ATTACH;FMTTYPE=image/png:https://www.christiananswersnewage.com/wp-content/uploads/2025/02/Screenshot-2025-02-05-193547.png
END:VEVENT
BEGIN:VEVENT
DTSTART;VALUE=DATE:20250201
DTEND;VALUE=DATE:20250202
DTSTAMP:20260421T035905
CREATED:20250201T190248Z
LAST-MODIFIED:20250201T190333Z
UID:3196-1738368000-1738454399@www.christiananswersnewage.com
SUMMARY:VIDEO INTERVIEW ON SPELLBOUND AS GUEST OF JENN NIZZA
DESCRIPTION:Video interview on book SpellBound as guest of ex-psychic Jenn Nizza
URL:https://www.christiananswersnewage.com/event/video-interview-on-spellbound-as-guest-of-jenn-nizza
CATEGORIES:Astrology,Children,Divination,Jenn Nizza,SpellBound 2024 by Marcia Montenegro,The Occult,Wicca
ATTACH;FMTTYPE=image/png:https://www.christiananswersnewage.com/wp-content/uploads/2025/02/SpellBound-Cover-2024.png
END:VEVENT
BEGIN:VEVENT
DTSTART;VALUE=DATE:20250127
DTEND;VALUE=DATE:20250128
DTSTAMP:20260421T035905
CREATED:20250127T233118Z
LAST-MODIFIED:20250127T233118Z
UID:3182-1737936000-1738022399@www.christiananswersnewage.com
SUMMARY:AUDIO INTERVIEW ON CROSSTALK ON BOOK "SPELLBOUND"
DESCRIPTION:Audio interview on the book SpellBound as guest of Jim Schneider on the VCY American Crosstalk America audio program.
URL:https://www.christiananswersnewage.com/event/audio-interview-on-crosstalk-on-book-spellbound
CATEGORIES:Astrology,Children,Divination,SpellBound 2024 by Marcia Montenegro,The Occult
ATTACH;FMTTYPE=image/png:https://www.christiananswersnewage.com/wp-content/uploads/2024/10/Screenshot-2024-10-31-134343.png
END:VEVENT
BEGIN:VEVENT
DTSTART;VALUE=DATE:20241203
DTEND;VALUE=DATE:20241204
DTSTAMP:20260421T035905
CREATED:20241203T175200Z
LAST-MODIFIED:20241203T175200Z
UID:3073-1733184000-1733270399@www.christiananswersnewage.com
SUMMARY:VIDEO INTERVIEW ABOUT BOOK "SPELLBOUND" ON CONTENDING FOR THE WORD
DESCRIPTION:VIDEO INTERVIEW ABOUT REPUBLISHED BOOK SPELLBOUND AS GUEST OF CONTENDING FOR THE WORD WITH DAVE JENKINS \n 
URL:https://www.christiananswersnewage.com/event/video-interview-about-book-spellbound-on-contending-for-the-word
CATEGORIES:Astrology,Biblical Discernment,Children,Esotieric,SpellBound 2024 by Marcia Montenegro,The Occult
ATTACH;FMTTYPE=image/png:https://www.christiananswersnewage.com/wp-content/uploads/2024/12/Screenshot-2024-12-03-124412.png
END:VEVENT
BEGIN:VEVENT
DTSTART;VALUE=DATE:20241103
DTEND;VALUE=DATE:20241104
DTSTAMP:20260421T035905
CREATED:20241103T214535Z
LAST-MODIFIED:20241203T175410Z
UID:3006-1730592000-1730678399@www.christiananswersnewage.com
SUMMARY:VIDEO INTERVIEW WITH DOREEN VIRTUE ON "THE PARANORMAL SEDUCTION OF TODAY'S KIDS"
DESCRIPTION:Video interview as guest of Doreen Virtue about Marcia Montenegro’s book\, “The Paranormal Seduction of Today’s Kids” including what to say to children about the occult
URL:https://www.christiananswersnewage.com/event/video-interview-with-doreen-virtue-on-the-paranormal-seduction-of-todays-kids
CATEGORIES:Astrology,Children,Doreen Virtue,Esotieric,SpellBound 2024 by Marcia Montenegro,The Occult
ATTACH;FMTTYPE=image/png:https://www.christiananswersnewage.com/wp-content/uploads/2024/11/Screenshot-2024-11-03-163934.png
END:VEVENT
END:VCALENDAR