BEGIN:VCALENDAR
VERSION:2.0
PRODID:-//Christian Answers for the New Age - ECPv6.8.3//NONSGML v1.0//EN
CALSCALE:GREGORIAN
METHOD:PUBLISH
X-ORIGINAL-URL:https://www.christiananswersnewage.com
X-WR-CALDESC:Events for Christian Answers for the New Age
REFRESH-INTERVAL;VALUE=DURATION:PT1H
X-Robots-Tag:noindex
X-PUBLISHED-TTL:PT1H
BEGIN:VTIMEZONE
TZID:America/Chicago
BEGIN:DAYLIGHT
TZOFFSETFROM:-0600
TZOFFSETTO:-0500
TZNAME:CDT
DTSTART:20230312T080000
END:DAYLIGHT
BEGIN:STANDARD
TZOFFSETFROM:-0500
TZOFFSETTO:-0600
TZNAME:CST
DTSTART:20231105T070000
END:STANDARD
BEGIN:DAYLIGHT
TZOFFSETFROM:-0600
TZOFFSETTO:-0500
TZNAME:CDT
DTSTART:20240310T080000
END:DAYLIGHT
BEGIN:STANDARD
TZOFFSETFROM:-0500
TZOFFSETTO:-0600
TZNAME:CST
DTSTART:20241103T070000
END:STANDARD
BEGIN:DAYLIGHT
TZOFFSETFROM:-0600
TZOFFSETTO:-0500
TZNAME:CDT
DTSTART:20250309T080000
END:DAYLIGHT
BEGIN:STANDARD
TZOFFSETFROM:-0500
TZOFFSETTO:-0600
TZNAME:CST
DTSTART:20251102T070000
END:STANDARD
BEGIN:DAYLIGHT
TZOFFSETFROM:-0600
TZOFFSETTO:-0500
TZNAME:CDT
DTSTART:20260308T080000
END:DAYLIGHT
BEGIN:STANDARD
TZOFFSETFROM:-0500
TZOFFSETTO:-0600
TZNAME:CST
DTSTART:20261101T070000
END:STANDARD
END:VTIMEZONE
BEGIN:VEVENT
DTSTART;TZID=America/Chicago:20260324T080000
DTEND;TZID=America/Chicago:20260324T170000
DTSTAMP:20260421T051725
CREATED:20260324T210906Z
LAST-MODIFIED:20260328T050704Z
UID:4416-1774339200-1774371600@www.christiananswersnewage.com
SUMMARY:VIDEO INTERVIEW ON THE ENNEAGRAM WITH TRINITY ABNSAT
DESCRIPTION:Marcia Montenegro as guest of Don Deal discussing the Enneagram on program on the Trinity Channel ABNSAT (not affiliated with TBN). \n  \nCANA articles on the Enneagram
URL:https://www.christiananswersnewage.com/event/4416
CATEGORIES:Enneagram,Testimony
ATTACH;FMTTYPE=image/jpeg:https://www.christiananswersnewage.com/wp-content/uploads/2026/03/8b03f345-02e0-4668-9961-2442cfa4065c.jpg
END:VEVENT
BEGIN:VEVENT
DTSTART;TZID=America/Chicago:20250902T080000
DTEND;TZID=America/Chicago:20250902T170000
DTSTAMP:20260421T051725
CREATED:20250902T183839Z
LAST-MODIFIED:20250902T184054Z
UID:3934-1756800000-1756832400@www.christiananswersnewage.com
SUMMARY:INTERVIEW AS GUEST ON MICHAEL IN CONTEXT (DR. MICHAEL EASLEY)
DESCRIPTION:Video interview as guest of Dr. Michael Easley \n  \nAudio interview on Apple Podcasts
URL:https://www.christiananswersnewage.com/event/interview-as-guest-on-michael-in-context-dr-michael-easley
CATEGORIES:Astrology,Buddhism,Eastern Spirituality,New Age,Testimony,The Occult
ATTACH;FMTTYPE=image/png:https://www.christiananswersnewage.com/wp-content/uploads/2025/09/Screenshot-2025-09-02-142721.png
END:VEVENT
BEGIN:VEVENT
DTSTART;VALUE=DATE:20250821
DTEND;VALUE=DATE:20250822
DTSTAMP:20260421T051725
CREATED:20250822T045137Z
LAST-MODIFIED:20250826T034359Z
UID:3876-1755734400-1755820799@www.christiananswersnewage.com
SUMMARY:VIDEO INTERVIEW ON TIP OF THE SPEAR
DESCRIPTION:Video interview as guest of Brandon Holthaus on his program\, “Tip of the Spear.” Testimony and some discussion of New Age areas.
URL:https://www.christiananswersnewage.com/event/video-interview-on-tip-of-the-spear
CATEGORIES:New Age,Testimony,The Occult
ATTACH;FMTTYPE=image/png:https://www.christiananswersnewage.com/wp-content/uploads/2025/08/Screenshot-2025-08-22-004751.png
END:VEVENT
BEGIN:VEVENT
DTSTART;VALUE=DATE:20250609
DTEND;VALUE=DATE:20250610
DTSTAMP:20260421T051725
CREATED:20250609T204513Z
LAST-MODIFIED:20250609T204513Z
UID:3620-1749427200-1749513599@www.christiananswersnewage.com
SUMMARY:VIDEO INTERVIEW AS GUEST OF JW ESCAPE ON THE NEW AGE
DESCRIPTION:Video interview as guest of Elaine of JW Escape; I give my story and discuss New Age deceptions.
URL:https://www.christiananswersnewage.com/event/video-interview-as-guest-of-jw-escape-on-the-new-age
CATEGORIES:New Age,Testimony
ATTACH;FMTTYPE=image/png:https://www.christiananswersnewage.com/wp-content/uploads/2025/06/Screenshot-2025-06-09-143250.png
END:VEVENT
BEGIN:VEVENT
DTSTART;VALUE=DATE:20250222
DTEND;VALUE=DATE:20250223
DTSTAMP:20260421T051725
CREATED:20250222T213955Z
LAST-MODIFIED:20250222T213955Z
UID:3314-1740182400-1740268799@www.christiananswersnewage.com
SUMMARY:INTERVIEW ON "SPELLBOUND" AS GUEST OF SHANDA FULBRIGHT OF HER FAITH INSPIRES
DESCRIPTION:Audio interview giving my testimony and discussing the book SpellBound as guest of Shanda Fulbright of Her Faith Inspires \n  \n 
URL:https://www.christiananswersnewage.com/event/interview-on-spellbound-as-guest-of-shanda-fulbright-of-her-faith-inspires
CATEGORIES:Astrology,Children,SpellBound 2024 by Marcia Montenegro,Testimony
ATTACH;FMTTYPE=image/png:https://www.christiananswersnewage.com/wp-content/uploads/2025/02/Screenshot-2025-02-22-163153.png
END:VEVENT
BEGIN:VEVENT
DTSTART;VALUE=DATE:20241209
DTEND;VALUE=DATE:20241210
DTSTAMP:20260421T051725
CREATED:20241209T223604Z
LAST-MODIFIED:20241211T215650Z
UID:3081-1733702400-1733788799@www.christiananswersnewage.com
SUMMARY:INTERVIEWS WITH PASTOR BRIAN TUBBS
DESCRIPTION:  \nInterviews with Pastor Brian Tubbs of Olney Baptist Church\, Olney\, MD \n  \nThe Enneagram \nMediums and Angels \nAre Psychics and Mediums Real? \nFrom New Age to Christianity \n  \nShort Link: https://shorturl.at/bj5UW
URL:https://www.christiananswersnewage.com/event/interviews-with-pastor-brian-tubbs
CATEGORIES:Astrology,Biblical Discernment,Divination,Enneagram,Testimony,The Occult
ATTACH;FMTTYPE=image/jpeg:https://www.christiananswersnewage.com/wp-content/uploads/2024/12/Marcia-Atlanta-Journal-Constitution2.jpg
END:VEVENT
BEGIN:VEVENT
DTSTART;VALUE=DATE:20241119
DTEND;VALUE=DATE:20241120
DTSTAMP:20260421T051725
CREATED:20241120T052519Z
LAST-MODIFIED:20241120T052519Z
UID:3061-1731974400-1732060799@www.christiananswersnewage.com
SUMMARY:VIDEO INTERVIEW ON THE NEW AGE WITH CAMPFIRE APOLOGETICS
DESCRIPTION:Video interview as guest of Mark Hudson of Campfire Apologetics on the New Age
URL:https://www.christiananswersnewage.com/event/video-interview-on-the-new-age-with-campfire-apologetics
CATEGORIES:Astrology,New Age,Testimony
ATTACH;FMTTYPE=image/png:https://www.christiananswersnewage.com/wp-content/uploads/2024/11/Screenshot-2024-11-20-001942.png
END:VEVENT
BEGIN:VEVENT
DTSTART;VALUE=DATE:20240719
DTEND;VALUE=DATE:20240720
DTSTAMP:20260421T051725
CREATED:20240719T211847Z
LAST-MODIFIED:20240815T021445Z
UID:2694-1721347200-1721433599@www.christiananswersnewage.com
SUMMARY:AUDIO PODCASTS AS GUEST OF R C SPROUL JR AND LISA SPROUL\, 4 PARTS (15 min. each)
DESCRIPTION:This is part 2\,  part 3\, and part 4 of an audio interview as a guest of R C Sproul Jr. and Lisa Sproul on “Jesus Changes Everything.” I finish giving my testimony in part 2 which started in part 1. \nPart 3 and Part 4 are on the Enneagram. \n  \n 
URL:https://www.christiananswersnewage.com/event/audio-podcast-as-guest-of-r-c-sproul-jr-and-lisa-sproul-part-2
CATEGORIES:Astrology,New Age,Testimony
ATTACH;FMTTYPE=image/png:https://www.christiananswersnewage.com/wp-content/uploads/2024/07/sproul.png
END:VEVENT
BEGIN:VEVENT
DTSTART;VALUE=DATE:20240113
DTEND;VALUE=DATE:20240114
DTSTAMP:20260421T051725
CREATED:20240113T201101Z
LAST-MODIFIED:20250220T222118Z
UID:1987-1705104000-1705190399@www.christiananswersnewage.com
SUMMARY:Video Interview of testimony on the Dyer Truth\, Part 2
DESCRIPTION:Video Interview with Billy Dyer of the Dyer Truth\, Part 2 \nWatch Part 1 here \n 
URL:https://www.christiananswersnewage.com/event/video-interview-of-testimony-on-the-dyer-truth-part-2
CATEGORIES:Testimony
ATTACH;FMTTYPE=image/png:https://www.christiananswersnewage.com/wp-content/uploads/2024/01/aaaaDyer.png
END:VEVENT
BEGIN:VEVENT
DTSTART;VALUE=DATE:20230921
DTEND;VALUE=DATE:20230922
DTSTAMP:20260421T051725
CREATED:20230921T210321Z
LAST-MODIFIED:20250220T222224Z
UID:1379-1695254400-1695340799@www.christiananswersnewage.com
SUMMARY:VIDEO INTERVIEW ON "THE DYER TRUTH" ON THE NEW AGE JOURNEY\, Part 1
DESCRIPTION:Video interview (Part 1) as guest of Billy Dyer of “The Dyer Truth” about my journey into the New Age\, including paranormal experiences and books that influenced me. I also give the account of how I was led out of the New Age. \nWatch Part 2 here  \n 
URL:https://www.christiananswersnewage.com/event/video-interview-on-the-dyer-truth-on-the-new-age-journey-part-1
CATEGORIES:Astrology,Esotieric,New Age,Testimony
ATTACH;FMTTYPE=image/png:https://www.christiananswersnewage.com/wp-content/uploads/2023/09/aaaaBilly.png
END:VEVENT
BEGIN:VEVENT
DTSTART;VALUE=DATE:20230823
DTEND;VALUE=DATE:20230824
DTSTAMP:20260421T051725
CREATED:20230825T020850Z
LAST-MODIFIED:20230825T021344Z
UID:1255-1692748800-1692835199@www.christiananswersnewage.com
SUMMARY:INTERVIEW AS GUEST ON TRUTH UNBOUND\, PART 1\, TESTIMONY
DESCRIPTION:Video interview with Pastor Walter Swaim of Truth Unbound\, part 1\, giving my testimony with some talk about the New Age
URL:https://www.christiananswersnewage.com/event/interview-as-guest-on-truth-unbound-part-1-testimony
CATEGORIES:New Age,Testimony
ATTACH;FMTTYPE=image/png:https://www.christiananswersnewage.com/wp-content/uploads/2023/08/aaaaInterview-2.png
END:VEVENT
BEGIN:VEVENT
DTSTART;VALUE=DATE:20230818
DTEND;VALUE=DATE:20230819
DTSTAMP:20260421T051725
CREATED:20230818T052441Z
LAST-MODIFIED:20230825T021413Z
UID:1222-1692316800-1692403199@www.christiananswersnewage.com
SUMMARY:INTERVIEW WITH SALVADOR OF EVIDENCE AND REASON\, TESTIMONY
DESCRIPTION:Video interview of my testimony with Salvador Cordova of Evidence and Reason \n 
URL:https://www.christiananswersnewage.com/event/interview-with-salvador-of-evidence-and-reason
CATEGORIES:Testimony
ATTACH;FMTTYPE=image/png:https://www.christiananswersnewage.com/wp-content/uploads/2023/08/aaaaSalvador.png
END:VEVENT
BEGIN:VEVENT
DTSTART;VALUE=DATE:20230501
DTEND;VALUE=DATE:20230502
DTSTAMP:20260421T051725
CREATED:20230501T171513Z
LAST-MODIFIED:20250618T002344Z
UID:628-1682899200-1682985599@www.christiananswersnewage.com
SUMMARY:PART ONE OF INTERVIEW as a guest on #OneFear
DESCRIPTION:PART ONE OF INTERVIEW as a guest on #OneFear talking about my background\, ministry\, and we discuss the 90s briefly touching on Goth\, Vampire\, emo\, and then I name what I view as the top 4 New Age influences in the church now. We start the first part of a discussion on Contemplative Spirituality. Part Two will air next Monday\, May 8th.\nTo listen on other platforms\, go to https://tinyurl.com/bh8a3mt7\nApple podcast is at https://tinyurl.com/26sn3jmm
URL:https://www.christiananswersnewage.com/event/part-one-of-interview-as-a-guest-on-onefear
CATEGORIES:Biblical Discernment,Contemplative,Cultural Spiritual,Esoteric,Gnosticism,Mysticism,Testimony
ATTACH;FMTTYPE=image/png:https://www.christiananswersnewage.com/wp-content/uploads/2023/05/aaaaContemplative.png
END:VEVENT
END:VCALENDAR